BEGIN:VCALENDAR
VERSION:2.0
PRODID:-//wp-events-plugin.com//7.2.3.1//EN
TZID:Europe/Berlin
X-WR-TIMEZONE:Europe/Berlin
BEGIN:VEVENT
UID:24@bvb-fanclub-bueren.de
DTSTART;TZID=Europe/Berlin:20250426T153000
DTEND;TZID=Europe/Berlin:20250426T153000
DTSTAMP:20250403T182038Z
URL:https://www.bvb-fanclub-bueren.de/events/bayern-muenchen-borussia-dort
 mund/
SUMMARY:TSG Hoffenheim - Borussia Dortmund
DESCRIPTION:
ATTACH;FMTTYPE=image/jpeg:https://www.bvb-fanclub-bueren.de/wp-content/upl
 oads/2024/11/Hoffenheim.png
CATEGORIES:Auswärtsspiel
LOCATION:PreZero Arena\, Dietmar-Hopp-Straße 1\, Sinsheim\, 74889\, Deutsc
 hland
X-APPLE-STRUCTURED-LOCATION;VALUE=URI;X-ADDRESS=Dietmar-Hopp-Straße 1\, Si
 nsheim\, 74889\, Deutschland;X-APPLE-RADIUS=100;X-TITLE=PreZero Arena:geo:
 0,0
END:VEVENT
BEGIN:VTIMEZONE
TZID:Europe/Berlin
X-LIC-LOCATION:Europe/Berlin
BEGIN:DAYLIGHT
DTSTART:20250330T030000
TZOFFSETFROM:+0100
TZOFFSETTO:+0200
TZNAME:CEST
END:DAYLIGHT
END:VTIMEZONE
END:VCALENDAR